BEGIN:VCALENDAR
VERSION:2.0
PRODID:gruene-amberg.de
METHOD:PUBLISH
BEGIN:VTIMEZONE
TZID:Europe/Berlin
X-LIC-LOCATION:Europe/Berlin
BEGIN:DAYLIGHT
TZOFFSETFROM:+0100
TZOFFSETTO:+0200
TZNAME:CEST
DTSTART:19700329T020000
RRULE:FREQ=YEARLY;INTERVAL=1;BYDAY=-1SU;BYMONTH=3
END:DAYLIGHT
BEGIN:STANDARD
TZOFFSETFROM:+0200
TZOFFSETTO:+0100
TZNAME:CET
DTSTART:19701025T030000
RRULE:FREQ=YEARLY;INTERVAL=1;BYDAY=-1SU;BYMONTH=10
END:STANDARD
END:VTIMEZONE
BEGIN:VEVENT
UID:28533178d3a218f9127e9e7f39aca5d6@gruene-amberg.de
URL;VALUE=URI:https://gruene-amberg.de/termine/sommerfest-bezirksverband-
 oberpfalz-2/
LOCATION:Zoigl beim Rechersimer, Reuth bei Erbendorf
SUMMARY:Sommerfest Bezirksverband Oberpfalz
DESCRIPTION;ALTREP="data:text/html,%0A%3Cp%3EAm%20Samstag%2C%20den%20%3Cs
 trong%3E27.%20Juni%202026%3C%2Fstrong%3E%20findet%20in%20%3Cstrong%3EReut
 h%20bei%20Erbendorf%3C%2Fstrong%3E%20das%20%3Cstrong%3ESommerfest%20des%2
 0Bezirksverbands%20Oberpfalz%20%3C%2Fstrong%3Estatt%2C%20zu%20dem%20du%20
 auch%20als%20Nicht-Mitglied%20herzlich%20eingeladen%20bist%21%3C%2Fp%3E%0
 A%0A%0A%0A%3Cp%3EWeitere%20Infos%20werden%20rechtzeitig%20Bescheid%20gege
 ben.%3C%2Fp%3E%0A%0A%0A%0A%3Cp%3EWir%20freuen%20uns%20auf%20einen%20sch%C
 3%B6nen%20Nachmittag%20mit%20dir%21%20%E2%98%80%EF%B8%8F%3C%2Fp%3E%0A":Am
  Samstag\, den 27. Juni 2026 findet in Reuth bei Erbendorf das Sommerfest
  des Bezirksverbands Oberpfalz statt\, zu dem du auch als Nicht-Mitglied 
 herzlich eingeladen bist!\n\nWeitere Infos werden rechtzeitig Bescheid ge
 geben.\n\nWir freuen uns auf einen schönen Nachmittag mit dir! ☀️
CLASS:PUBLIC
DTSTART;TZID=Europe/Berlin:20260627
DTEND;TZID=Europe/Berlin:20260628
DTSTAMP:20260425T135026
END:VEVENT
END:VCALENDAR