BEGIN:VCALENDAR
VERSION:2.0
PRODID:gruene-amberg.de
METHOD:PUBLISH
BEGIN:VTIMEZONE
TZID:Europe/Berlin
X-LIC-LOCATION:Europe/Berlin
BEGIN:DAYLIGHT
TZOFFSETFROM:+0100
TZOFFSETTO:+0200
TZNAME:CEST
DTSTART:19700329T020000
RRULE:FREQ=YEARLY;INTERVAL=1;BYDAY=-1SU;BYMONTH=3
END:DAYLIGHT
BEGIN:STANDARD
TZOFFSETFROM:+0200
TZOFFSETTO:+0100
TZNAME:CET
DTSTART:19701025T030000
RRULE:FREQ=YEARLY;INTERVAL=1;BYDAY=-1SU;BYMONTH=10
END:STANDARD
END:VTIMEZONE
BEGIN:VEVENT
UID:6d4cf290cc81cfc3bcffaaf0a3131adc@gruene-amberg.de
URL;VALUE=URI:https://gruene-amberg.de/termine/mitgliedertreffen-amberg-2
 /
LOCATION:
SUMMARY:Mitgliedertreffen Amberg
DESCRIPTION;ALTREP="data:text/html,%0A%3Cp%3EAm%20kommenden%20Donnerstag%
 20treffen%20wir%20uns%20wieder%20um%2019.30%20Uhr%20in%20der%20Zirbenstub
 e%20im%20Winklerbr%C3%A4u.%3C%2Fp%3E%0A%0A%0A%0A%3Cp%3EHier%20unser%20The
 menvorschlag%3A%3C%2Fp%3E%0A%0A%0A%0A%3Cp%3E1.%C2%A0%C2%A0%C2%A0%C2%A0%C2
 %A0%C2%A0%C2%A0%20Neues%20aus%20der%20Stadtpolitik%20%E2%80%93%20wie%20ge
 ht%20es%20im%20neuen%20Stadtrat%20weiter%3Cbr%3E2.%C2%A0%C2%A0%C2%A0%C2%A
 0%C2%A0%C2%A0%C2%A0%20Neues%20im%20KV%20-%20Diskussion%20%C3%BCber%20Schw
 erpunktthemen%20f%C3%BCr%20die%20n%C3%A4chsten%20Wochen%20und%20Monate%3C
 br%3E3.%C2%A0%C2%A0%C2%A0%C2%A0%C2%A0%C2%A0%C2%A0%20Neues%20im%20Vorstand
 %20%E2%80%93%20Planung%20der%20Jahreshauptversammlung%3Cbr%3E4.%C2%A0%C2%
 A0%C2%A0%C2%A0%C2%A0%C2%A0%C2%A0%20Neues%20aus%20dem%20Bezirk%3Cbr%3E5.%C
 2%A0%C2%A0%C2%A0%C2%A0%C2%A0%C2%A0%C2%A0%20Neues%20quer%20Beet%3A%20Fraue
 nstammtisch%2C%20Lastenrad%2C%20Stadtradeln%3Cbr%3E6.%C2%A0%C2%A0%C2%A0%C
 2%A0%C2%A0%C2%A0%C2%A0%20Sonstiges%3C%2Fp%3E%0A%0A%0A%0A%3Cp%3EWir%20freu
 en%20uns%20auf%20euch%21%3C%2Fp%3E%0A":Am kommenden Donnerstag treffen wi
 r uns wieder um 19.30 Uhr in der Zirbenstube im Winklerbräu.\n\nHier uns
 er Themenvorschlag:\n\n1.        Neues aus der Stadtpolitik – wi
 e geht es im neuen Stadtrat weiter2.        Neues im KV - Diskussi
 on über Schwerpunktthemen für die nächsten Wochen und Monate3.    
     Neues im Vorstand – Planung der Jahreshauptversammlung4.    
     Neues aus dem Bezirk5.        Neues quer Beet: Frauenstammt
 isch\, Lastenrad\, Stadtradeln6.        Sonstiges\n\nWir freuen un
 s auf euch!
CLASS:PUBLIC
DTSTART;TZID=Europe/Berlin:20260423T193000
DTEND;TZID=Europe/Berlin:20260423T203000
DTSTAMP:20260421T140246
END:VEVENT
END:VCALENDAR