BEGIN:VCALENDAR
VERSION:2.0
PRODID:gruene-amberg.de
METHOD:PUBLISH
BEGIN:VTIMEZONE
TZID:Europe/Berlin
X-LIC-LOCATION:Europe/Berlin
BEGIN:DAYLIGHT
TZOFFSETFROM:+0100
TZOFFSETTO:+0200
TZNAME:CEST
DTSTART:19700329T020000
RRULE:FREQ=YEARLY;INTERVAL=1;BYDAY=-1SU;BYMONTH=3
END:DAYLIGHT
BEGIN:STANDARD
TZOFFSETFROM:+0200
TZOFFSETTO:+0100
TZNAME:CET
DTSTART:19701025T030000
RRULE:FREQ=YEARLY;INTERVAL=1;BYDAY=-1SU;BYMONTH=10
END:STANDARD
END:VTIMEZONE
BEGIN:VEVENT
UID:6b9cfdd97d67bc23bd0d7a29acd8e18c@gruene-amberg.de
URL;VALUE=URI:https://gruene-amberg.de/termine/bezirksforum-in-sulzbach-r
 osenberg/
LOCATION:Sperber Bräu, Rosenberger Str. 14, 92237 Sulzbach-Rosenberg
SUMMARY:Bezirksforum in Sulzbach-Rosenberg
DESCRIPTION;ALTREP="data:text/html,%0A%3Cp%3EDer%20Bezirksverband%20Oberp
 falz%20l%C3%A4dt%20herzlich%20zum%20%3Cstrong%3EBezirksforum%3C%2Fstrong%
 3E%20am%20%3Cstrong%3ESamstag%2C%20den%2019.%20September%202026%3C%2Fstro
 ng%3E%20im%20%3Cstrong%3ESperber-Br%C3%A4u%3C%2Fstrong%3E%20in%20%3Cstron
 g%3ESulzbach-Rosenberg%3C%2Fstrong%3E%20ein%21%3C%2Fp%3E%0A%0A%0A%0A%3Cp%
 3E%F0%9F%95%99%20%3Cstrong%3EBeginn%3A%3C%2Fstrong%3E%2010%3A30Uhr%3Cbr%3
 E%F0%9F%95%9E%20%3Cstrong%3EEnde%3A%3C%2Fstrong%3E%20ca.%2016%3A00%20Uhr%
 3C%2Fp%3E%0A%0A%0A%0A%3Cp%3EIm%20Zentrum%20der%20Veranstaltung%20stehen%2
 0praxisorientierte%20Workshops%2C%20die%20den%20politischen%20Alltag%20er
 leichtern%20sowie%20neue%20Perspektiven%20und%20Skills%20f%C3%BCr%20die%2
 0politische%20Arbeit%20vermitteln.%3C%2Fp%3E%0A%0A%0A%0A%3Cp%3EInformatio
 nen%20zum%20genauen%20Ablauf%20des%20Bezirksforums%20folgen%20und%20gehen
 %20an%20alle%20Mitglieder%20per%20Mail%20raus.%3C%2Fp%3E%0A%0A%0A%0A%3Cp%
 3E%F0%9F%93%A7%20%3Cstrong%3EAnmeldung%20erforderlich%3A%3C%2Fstrong%3E%2
 0Bitte%20meldet%20euch%20per%20E-Mail%20unter%20%3Ca%20href%3D%22mailto%3
 Ageschaeftsstelle%40gruene-oberpfalz.de%22%3Egeschaeftsstelle%40gruene-ob
 erpfalz.de%3C%2Fa%3E%20an%21%3C%2Fp%3E%0A%0A%0A%0A%3Cp%3EWir%20freuen%20u
 ns%20auf%20euch%21%3C%2Fp%3E%0A%0A%0A%0A%3Cp%3E%3C%2Fp%3E%0A":Der Bezirks
 verband Oberpfalz lädt herzlich zum Bezirksforum am Samstag\, den 19. Se
 ptember 2026 im Sperber-Bräu in Sulzbach-Rosenberg ein!\n\n🕙 Beginn: 
 10:30Uhr🕞 Ende: ca. 16:00 Uhr\n\nIm Zentrum der Veranstaltung stehen p
 raxisorientierte Workshops\, die den politischen Alltag erleichtern sowie
  neue Perspektiven und Skills für die politische Arbeit vermitteln.\n\nI
 nformationen zum genauen Ablauf des Bezirksforums folgen und gehen an all
 e Mitglieder per Mail raus.\n\n📧 Anmeldung erforderlich: Bitte meldet 
 euch per E-Mail unter geschaeftsstelle@gruene-oberpfalz.de an!\n\nWir fre
 uen uns auf euch!
CLASS:PUBLIC
DTSTART;TZID=Europe/Berlin:20260919T103000
DTEND;TZID=Europe/Berlin:20260919T160000
DTSTAMP:20260425T134842
END:VEVENT
END:VCALENDAR